BEGIN:VCALENDAR
VERSION:2.0
PRODID:-//wp-events-plugin.com//7.2.3.1//EN
TZID:America/New_York
X-WR-TIMEZONE:America/New_York
BEGIN:VEVENT
UID:2911@cardboardhobby.com
DTSTART;TZID=America/New_York:20260316T220000
DTEND;TZID=America/New_York:20260316T220000
DTSTAMP:20260314T151258Z
URL:https://cardboardhobby.com/events/2026-slab-kings-plus-football-editio
 n-10-pack-ebay-break-2/
SUMMARY:2026 Slab Kings Plus Football Edition 10 Pack eBay Break -  - 03/16
 /2026 - 10:00 pm
DESCRIPTION:2026 Slab Kings Plus Football Edition 10 Pack eBay Break
END:VEVENT
BEGIN:VTIMEZONE
TZID:America/New_York
X-LIC-LOCATION:America/New_York
BEGIN:DAYLIGHT
DTSTART:20260308T030000
TZOFFSETFROM:-0500
TZOFFSETTO:-0400
TZNAME:EDT
END:DAYLIGHT
END:VTIMEZONE
END:VCALENDAR