BEGIN:VCALENDAR
VERSION:2.0
PRODID:-//wp-events-plugin.com//7.2.3.1//EN
TZID:America/New_York
X-WR-TIMEZONE:America/New_York
BEGIN:VEVENT
UID:2981@cardboardhobby.com
DTSTART;TZID=America/New_York:20260418T210000
DTEND;TZID=America/New_York:20260418T210000
DTSTAMP:20260418T021857Z
URL:https://cardboardhobby.com/events/2026-gold-rush-lightning-baseball-5-
 box-1-2-case-pick-your-team-break-722/
SUMMARY:2026 Gold Rush Lightning Baseball 5 Box 1/2 CASE Pick Your Team Bre
 ak #722 -  - 04/18/2026 - 9:00 pm
DESCRIPTION:2026 Gold Rush Lightning Baseball 5 Box 1/2 CASE Pick Your Team
  Break #722
END:VEVENT
BEGIN:VTIMEZONE
TZID:America/New_York
X-LIC-LOCATION:America/New_York
BEGIN:DAYLIGHT
DTSTART:20260308T030000
TZOFFSETFROM:-0500
TZOFFSETTO:-0400
TZNAME:EDT
END:DAYLIGHT
END:VTIMEZONE
END:VCALENDAR