BEGIN:VCALENDAR
VERSION:2.0
PRODID:-//wp-events-plugin.com//7.2.3.1//EN
TZID:America/New_York
X-WR-TIMEZONE:America/New_York
BEGIN:VEVENT
UID:2993@cardboardhobby.com
DTSTART;TZID=America/New_York:20260421T210000
DTEND;TZID=America/New_York:20260421T210000
DTSTAMP:20260421T000000Z
URL:https://cardboardhobby.com/events/2025-topps-chrome-football-hanger-10
 -box-ebay-break-4/
SUMMARY:2025 Topps Chrome Football Hanger 10 Box eBay Break -  - 04/21/2026
  - 9:00 pm
DESCRIPTION:2025 Topps Chrome Football Hanger 10 Box eBay Break
END:VEVENT
BEGIN:VTIMEZONE
TZID:America/New_York
X-LIC-LOCATION:America/New_York
BEGIN:DAYLIGHT
DTSTART:20260308T030000
TZOFFSETFROM:-0500
TZOFFSETTO:-0400
TZNAME:EDT
END:DAYLIGHT
END:VTIMEZONE
END:VCALENDAR