BEGIN:VCALENDAR
VERSION:2.0
PRODID:-//wp-events-plugin.com//7.2.3.1//EN
TZID:America/New_York
X-WR-TIMEZONE:America/New_York
BEGIN:VEVENT
UID:2895@cardboardhobby.com
DTSTART;TZID=America/New_York:20260312T200000
DTEND;TZID=America/New_York:20260312T200000
DTSTAMP:20260307T220453Z
URL:https://cardboardhobby.com/events/2025-panini-prizm-football-mega-5-bo
 x-1-4-case-ebay-break-4/
SUMMARY:2025 Panini Prizm Football Mega 5 Box 1/4 CASE eBay Break -  - 03/1
 2/2026 - 8:00 pm
DESCRIPTION:2025 Panini Prizm Football Mega 5 Box 1/4 CASE eBay Break
END:VEVENT
BEGIN:VTIMEZONE
TZID:America/New_York
X-LIC-LOCATION:America/New_York
BEGIN:DAYLIGHT
DTSTART:20260308T030000
TZOFFSETFROM:-0500
TZOFFSETTO:-0400
TZNAME:EDT
END:DAYLIGHT
END:VTIMEZONE
END:VCALENDAR