BEGIN:VCALENDAR
VERSION:2.0
PRODID:-//wp-events-plugin.com//7.2.3.1//EN
TZID:America/New_York
X-WR-TIMEZONE:America/New_York
BEGIN:VEVENT
UID:1779@cardboardhobby.com
DTSTART;TZID=America/New_York:20241105T210000
DTEND;TZID=America/New_York:20241105T210000
DTSTAMP:20241104T040515Z
URL:https://cardboardhobby.com/events/2024-tristar-hidden-treasures-autogr
 aph-mini-helmet-football-season-edition-4-box-1-2-case-pick-your-team-brea
 k-282/
SUMMARY:2024 TriStar Hidden Treasures Autograph Mini Helmet Football Season
  Edition 4 Box 1/2 CASE Pick Your Team Break #282 -  - 11/05/2024 - 9:00 p
 m
DESCRIPTION:2024 TriStar Hidden Treasures Autograph Mini Helmet Football Se
 ason Edition 4 Box 1/2 CASE Pick Your Team Break #282
END:VEVENT
BEGIN:VTIMEZONE
TZID:America/New_York
X-LIC-LOCATION:America/New_York
BEGIN:STANDARD
DTSTART:20241103T010000
TZOFFSETFROM:-0400
TZOFFSETTO:-0500
TZNAME:EST
END:STANDARD
END:VTIMEZONE
END:VCALENDAR