BEGIN:VCALENDAR
VERSION:2.0
PRODID:-//wp-events-plugin.com//7.2.3.1//EN
TZID:America/New_York
X-WR-TIMEZONE:America/New_York
BEGIN:VEVENT
UID:1305@cardboardhobby.com
DTSTART;TZID=America/New_York:20240416T210000
DTEND;TZID=America/New_York:20240416T210000
DTSTAMP:20240412T015749Z
URL:https://cardboardhobby.com/events/2024-tristar-hidden-treasures-autogr
 aph-mini-helmet-football-4-box-1-2-case-pick-your-team-break-83/
SUMMARY:2024 TriStar Hidden Treasures Autograph Mini Helmet Football 4 Box 
 1/2 Case Pick Your Team Break #83 -  - 04/16/2024 - 9:00 pm
DESCRIPTION:2024 TriStar Hidden Treasures Autograph Mini Helmet Football 4 
 Box 1/2 Case Pick Your Team Break #83
END:VEVENT
BEGIN:VTIMEZONE
TZID:America/New_York
X-LIC-LOCATION:America/New_York
BEGIN:DAYLIGHT
DTSTART:20240310T030000
TZOFFSETFROM:-0500
TZOFFSETTO:-0400
TZNAME:EDT
END:DAYLIGHT
END:VTIMEZONE
END:VCALENDAR