BEGIN:VCALENDAR
VERSION:2.0
PRODID:-//wp-events-plugin.com//7.2.3.1//EN
TZID:America/New_York
X-WR-TIMEZONE:America/New_York
BEGIN:VEVENT
UID:1693@cardboardhobby.com
DTSTART;TZID=America/New_York:20240928T220000
DTEND;TZID=America/New_York:20240928T220000
DTSTAMP:20240925T115940Z
URL:https://cardboardhobby.com/events/2024-tristar-autograph-authentic-ful
 l-size-helmet-football-1-box-pick-your-team-break-245/
SUMMARY:2024 TriStar Autograph Authentic Full Size Helmet Football 1 Box Pi
 ck Your Team Break #245 -  - 09/28/2024 - 10:00 pm
DESCRIPTION:2024 TriStar Autograph Authentic Full Size Helmet Football 1 Bo
 x Pick Your Team Break #245
END:VEVENT
BEGIN:VTIMEZONE
TZID:America/New_York
X-LIC-LOCATION:America/New_York
BEGIN:DAYLIGHT
DTSTART:20240310T030000
TZOFFSETFROM:-0500
TZOFFSETTO:-0400
TZNAME:EDT
END:DAYLIGHT
END:VTIMEZONE
END:VCALENDAR