BEGIN:VCALENDAR
VERSION:2.0
PRODID:-//wp-events-plugin.com//7.2.3.1//EN
TZID:America/New_York
X-WR-TIMEZONE:America/New_York
BEGIN:VEVENT
UID:1513@cardboardhobby.com
DTSTART;TZID=America/New_York:20240714T210000
DTEND;TZID=America/New_York:20240714T210000
DTSTAMP:20240713T020243Z
URL:https://cardboardhobby.com/events/2024-hit-parade-autographed-football
 -helmet-duo-edition-series-1-1-box-random-team-break-168/
SUMMARY:2024 Hit Parade Autographed Football Helmet Duo Edition Series 1 1 
 Box Random Team Break #168 -  - 07/14/2024 - 9:00 pm
DESCRIPTION:2024 Hit Parade Autographed Football Helmet Duo Edition Series 
 1 1 Box Random Team Break #168
END:VEVENT
BEGIN:VTIMEZONE
TZID:America/New_York
X-LIC-LOCATION:America/New_York
BEGIN:DAYLIGHT
DTSTART:20240310T030000
TZOFFSETFROM:-0500
TZOFFSETTO:-0400
TZNAME:EDT
END:DAYLIGHT
END:VTIMEZONE
END:VCALENDAR