BEGIN:VCALENDAR
VERSION:2.0
PRODID:-//wp-events-plugin.com//7.2.3.1//EN
TZID:America/New_York
X-WR-TIMEZONE:America/New_York
BEGIN:VEVENT
UID:1140@cardboardhobby.com
DTSTART:20240203T030000Z
DTEND:20240203T030000Z
DTSTAMP:20240128T182719Z
URL:https://cardboardhobby.com/events/2023-topps-tier-one-baseball-4-box-1
 -3-case-ebay-break/
SUMMARY:2023 Topps Tier One Baseball 4 Box 1/3 Case eBay Break -  - 02/02/2
 024 - 10:00 pm
DESCRIPTION:2023 Topps Tier One Baseball 4 Box 1/3 Case eBay Break
END:VEVENT
END:VCALENDAR