BEGIN:VCALENDAR
VERSION:2.0
PRODID:-//wp-events-plugin.com//7.2.3.1//EN
TZID:America/New_York
X-WR-TIMEZONE:America/New_York
BEGIN:VEVENT
UID:1127@cardboardhobby.com
DTSTART:20240130T020000Z
DTEND:20240130T020000Z
DTSTAMP:20240128T040155Z
URL:https://cardboardhobby.com/events/2023-topps-inception-baseball-2-box-
 ebay-break-6/
SUMMARY:2023 Topps Inception Baseball 2 Box eBay Break -  - 01/29/2024 - 9:
 00 pm
DESCRIPTION:2023 Topps Inception Baseball 2 Box eBay Break
END:VEVENT
END:VCALENDAR