BEGIN:VCALENDAR
VERSION:2.0
PRODID:-//wp-events-plugin.com//7.2.3.1//EN
TZID:America/New_York
X-WR-TIMEZONE:America/New_York
BEGIN:VEVENT
UID:1257@cardboardhobby.com
DTSTART;TZID=America/New_York:20240323T190000
DTEND;TZID=America/New_York:20240323T190000
DTSTAMP:20240321T193105Z
URL:https://cardboardhobby.com/events/2023-panini-gold-standard-football-1
 -box-ebay-break-18/
SUMMARY:2023 Panini Gold Standard Football 1 Box eBay Break -  - 03/23/2024
  - 7:00 pm
DESCRIPTION:2023 Panini Gold Standard Football 1 Box eBay Break
END:VEVENT
BEGIN:VTIMEZONE
TZID:America/New_York
X-LIC-LOCATION:America/New_York
BEGIN:DAYLIGHT
DTSTART:20240310T030000
TZOFFSETFROM:-0500
TZOFFSETTO:-0400
TZNAME:EDT
END:DAYLIGHT
END:VTIMEZONE
END:VCALENDAR