BEGIN:VCALENDAR
VERSION:2.0
PRODID:-//wp-events-plugin.com//7.2.3.1//EN
TZID:America/New_York
X-WR-TIMEZONE:America/New_York
BEGIN:VEVENT
UID:1087@cardboardhobby.com
DTSTART:20240116T020000Z
DTEND:20240116T020000Z
DTSTAMP:20240108T035314Z
URL:https://cardboardhobby.com/events/2023-panini-gold-standard-football-1
 -box-ebay-break-10/
SUMMARY:2023 Panini Gold Standard Football 1 Box eBay Break -  - 01/15/2024
  - 9:00 pm
DESCRIPTION:2023 Panini Gold Standard Football 1 Box eBay Break
END:VEVENT
END:VCALENDAR