BEGIN:VCALENDAR
VERSION:2.0
PRODID:-//wp-events-plugin.com//7.2.3.1//EN
TZID:America/New_York
X-WR-TIMEZONE:America/New_York
BEGIN:VEVENT
UID:1047@cardboardhobby.com
DTSTART:20231231T000000Z
DTEND:20231231T000000Z
DTSTAMP:20231229T161332Z
URL:https://cardboardhobby.com/events/2023-panini-certified-football-1-box
 -ebay-break-6/
SUMMARY:2023 Panini Certified Football 1 Box eBay Break -  - 12/30/2023 - 7
 :00 pm
DESCRIPTION:2023 Panini Certified Football 1 Box eBay Break
END:VEVENT
END:VCALENDAR