BEGIN:VCALENDAR
VERSION:2.0
PRODID:-//wp-events-plugin.com//7.2.3.1//EN
TZID:America/New_York
X-WR-TIMEZONE:America/New_York
BEGIN:VEVENT
UID:963@cardboardhobby.com
DTSTART:20231129T010000Z
DTEND:20231129T010000Z
DTSTAMP:20231127T204103Z
URL:https://cardboardhobby.com/events/2023-gold-rush-dynamite-football-1-b
 ox-ebay-break-4/
SUMMARY:2023 Gold Rush Dynamite Football 1 Box eBay Break -  - 11/28/2023 -
  8:00 pm
DESCRIPTION:2023 Gold Rush Dynamite Football 1 Box eBay Break
END:VEVENT
END:VCALENDAR