BEGIN:VCALENDAR
VERSION:2.0
PRODID:-//wp-events-plugin.com//7.2.3.1//EN
TZID:America/New_York
X-WR-TIMEZONE:America/New_York
BEGIN:VEVENT
UID:565@cardboardhobby.com
DTSTART:20230503T023000Z
DTEND:20230503T023000Z
DTSTAMP:20230502T002855Z
URL:https://cardboardhobby.com/events/2023-gold-rush-big-balls-1-box-break
 /
SUMMARY:2023 Gold Rush Autographed Big Balls 1 Box Break -  - 05/02/2023 - 
 9:30 pm
DESCRIPTION:2023 Gold Rush Big Balls 1 Box Break
END:VEVENT
END:VCALENDAR