BEGIN:VCALENDAR
VERSION:2.0
PRODID:-//wp-events-plugin.com//7.2.3.1//EN
TZID:America/New_York
X-WR-TIMEZONE:America/New_York
BEGIN:VEVENT
UID:1068@cardboardhobby.com
DTSTART:20240107T020000Z
DTEND:20240107T020000Z
DTSTAMP:20240104T203226Z
URL:https://cardboardhobby.com/events/2023-gold-rush-autograph-mini-helmet
 -football-series-7-6-box-1-2-case-pick-your-team-break-7/
SUMMARY:2023 Gold Rush Autograph Mini Helmet Football Series 7 6 Box 1/2 CA
 SE Pick Your Team Break #7 -  - 01/06/2024 - 9:00 pm
DESCRIPTION:2023 Gold Rush Autograph Mini Helmet Football Series 7 6 Box 1/
 2 CASE Pick Your Team Break #7
END:VEVENT
END:VCALENDAR