BEGIN:VCALENDAR
VERSION:2.0
PRODID:-//wp-events-plugin.com//7.2.3.1//EN
TZID:America/New_York
X-WR-TIMEZONE:America/New_York
BEGIN:VEVENT
UID:420@cardboardhobby.com
DTSTART:20230221T010000Z
DTEND:20230221T010000Z
DTSTAMP:20230217T155147Z
URL:https://cardboardhobby.com/events/2023-gold-rush-autograph-mini-helmet
 -football-6-box-1-2-case-ebay-break/
SUMMARY:2023 Gold Rush Autograph Mini Helmet Football 6 Box 1/2 Case eBay B
 reak -  - 02/20/2023 - 8:00 pm
DESCRIPTION:2023 Gold Rush Autograph Mini Helmet Football 6 Box 1/2 Case eB
 ay Break
END:VEVENT
END:VCALENDAR