BEGIN:VCALENDAR
VERSION:2.0
PRODID:-//wp-events-plugin.com//7.2.3.1//EN
TZID:America/New_York
X-WR-TIMEZONE:America/New_York
BEGIN:VEVENT
UID:1014@cardboardhobby.com
DTSTART:20231217T030000Z
DTEND:20231217T030000Z
DTSTAMP:20231216T031638Z
URL:https://cardboardhobby.com/events/2023-gold-rush-autograph-full-size-h
 elmet-series-4-1-box-pick-your-team-break-89/
SUMMARY:2023 Gold Rush Autograph Full Size Helmet Series 4 1 Box Pick Your 
 Team Break #89 -  - 12/16/2023 - 10:00 pm
DESCRIPTION:2023 Gold Rush Autograph Full Size Helmet Series 4 1 Box Pick Y
 our Team Break #89
END:VEVENT
END:VCALENDAR