BEGIN:VCALENDAR
VERSION:2.0
PRODID:-//wp-events-plugin.com//7.2.3.1//EN
TZID:America/New_York
X-WR-TIMEZONE:America/New_York
BEGIN:VEVENT
UID:279@cardboardhobby.com
DTSTART:20221204T030000Z
DTEND:20221204T030000Z
DTSTAMP:20221201T201049Z
URL:https://cardboardhobby.com/events/2022-leaf-stitches-slabs-basketball-
 1-box-ebay-break-6/
SUMMARY:2022 Leaf Stitches & Slabs Basketball 1 Box eBay Break -  - 12/03/2
 022 - 10:00 pm
DESCRIPTION:2022 Leaf Stitches &amp\; Slabs Basketball 1 Box eBay Break
END:VEVENT
END:VCALENDAR