BEGIN:VCALENDAR
VERSION:2.0
PRODID:-//wp-events-plugin.com//7.2.3.1//EN
TZID:America/New_York
X-WR-TIMEZONE:America/New_York
BEGIN:VEVENT
UID:371@cardboardhobby.com
DTSTART:20230123T010000Z
DTEND:20230123T010000Z
DTSTAMP:20230121T193124Z
URL:https://cardboardhobby.com/events/2022-leaf-stitches-slabs-basketball-
 1-box-ebay-break-12/
SUMMARY:2022 Leaf Stitches & Slabs Basketball 1 Box eBay Break -  - 01/22/2
 023 - 8:00 pm
DESCRIPTION:2022 Leaf Stitches &amp\; Slabs Basketball 1 Box eBay Break
END:VEVENT
END:VCALENDAR