BEGIN:VCALENDAR
VERSION:2.0
PRODID:-//wp-events-plugin.com//7.2.3.1//EN
TZID:America/New_York
X-WR-TIMEZONE:America/New_York
BEGIN:VEVENT
UID:75@cardboardhobby.com
DTSTART:20220805T020000Z
DTEND:20220805T020000Z
DTSTAMP:20220728T224531Z
URL:https://cardboardhobby.com/events/2022-gold-rush-autograph-full-size-h
 elmet-specialty-1-box-ebay-break-10/
SUMMARY:2022 Gold Rush Autograph Full Size Helmet Specialty 1 Box eBay Brea
 k -  - 08/04/2022 - 9:00 pm
DESCRIPTION:2022 Gold Rush Autograph Full Size Helmet Specialty 1 Box eBay 
 Break
END:VEVENT
END:VCALENDAR